
BEGIN:VCALENDAR
VERSION:2.0
PRODID:-//Gmina Siemień - ECPv4.5.10.1//NONSGML v1.0//EN
CALSCALE:GREGORIAN
METHOD:PUBLISH
X-WR-CALNAME:Gmina Siemień
X-ORIGINAL-URL:https://siemien.pl
X-WR-CALDESC:Events for Gmina Siemień
BEGIN:VEVENT
DTSTART;TZID=Europe/Warsaw:20180626T080000
DTEND;TZID=Europe/Warsaw:20180626T170000
DTSTAMP:20260421T115432
CREATED:20180626T055022Z
LAST-MODIFIED:20180626T055022Z
UID:16865-1530000000-1530032400@siemien.pl
SUMMARY:Dni Siemienia 2018
DESCRIPTION:
URL:https://siemien.pl/event/dni-siemienia-2018/
ATTACH;FMTTYPE=image/jpeg:https://siemien.pl/wp-content/uploads/2018/06/plakat-Dni-Siemienia-20181.jpg
END:VEVENT
END:VCALENDAR